BEGIN:VCALENDAR
VERSION:2.0
PRODID:-//Terrasse Café - Café communautaire - ECPv6.15.20//NONSGML v1.0//EN
CALSCALE:GREGORIAN
METHOD:PUBLISH
X-WR-CALNAME:Terrasse Café - Café communautaire
X-ORIGINAL-URL:https://terrasse-cafe.org
X-WR-CALDESC:Évènements pour Terrasse Café - Café communautaire
REFRESH-INTERVAL;VALUE=DURATION:PT1H
X-Robots-Tag:noindex
X-PUBLISHED-TTL:PT1H
BEGIN:VTIMEZONE
TZID:America/Toronto
BEGIN:DAYLIGHT
TZOFFSETFROM:-0500
TZOFFSETTO:-0400
TZNAME:EDT
DTSTART:20240310T070000
END:DAYLIGHT
BEGIN:STANDARD
TZOFFSETFROM:-0400
TZOFFSETTO:-0500
TZNAME:EST
DTSTART:20241103T060000
END:STANDARD
BEGIN:DAYLIGHT
TZOFFSETFROM:-0500
TZOFFSETTO:-0400
TZNAME:EDT
DTSTART:20250309T070000
END:DAYLIGHT
BEGIN:STANDARD
TZOFFSETFROM:-0400
TZOFFSETTO:-0500
TZNAME:EST
DTSTART:20251102T060000
END:STANDARD
BEGIN:DAYLIGHT
TZOFFSETFROM:-0500
TZOFFSETTO:-0400
TZNAME:EDT
DTSTART:20260308T070000
END:DAYLIGHT
BEGIN:STANDARD
TZOFFSETFROM:-0400
TZOFFSETTO:-0500
TZNAME:EST
DTSTART:20261101T060000
END:STANDARD
END:VTIMEZONE
BEGIN:VEVENT
DTSTART;TZID=America/Toronto:20250703T190000
DTEND;TZID=America/Toronto:20250703T210000
DTSTAMP:20260423T062110
CREATED:20250610T233250Z
LAST-MODIFIED:20250626T012932Z
UID:1678-1751569200-1751576400@terrasse-cafe.org
SUMMARY:Jeudi 5-7: Bingo
DESCRIPTION:Si vous aimez les surprises\, les éclats de rire et une saine rivalité\, notre premier bingo vous attend!📢 Le jeudi 3 juillet dès 19h\, c’est votre chance de passer une bonne soirée!🍹🥘 Bar\, bonne bouffe et ambiance estivale au menu!Amenez votre bonne humeur — et qui sait\, vous crierez peut-être BINGO avant tout le monde!Accès gratuit au site.🔢 Cartes de bingo: 6$ / unité\, 20$ pour 4.
URL:https://terrasse-cafe.org/event/jeudi-5-7/
END:VEVENT
BEGIN:VEVENT
DTSTART;TZID=America/Toronto:20250704T170000
DTEND;TZID=America/Toronto:20250704T213000
DTSTAMP:20260423T062110
CREATED:20250610T233351Z
LAST-MODIFIED:20250610T234741Z
UID:1680-1751648400-1751664600@terrasse-cafe.org
SUMMARY:Vendredi pizza
DESCRIPTION:Les vendredis pizza\, c’est la tradition du Terrasse Café!Chaque vendredi soir\, viens déguster nos délicieuses pizzas artisanales cuites sur place\, en bonne compagnie et avec vue sur le lac. \n\n\n\n🕕 Premier arrivé\, premier servi — selon l’achalandage\, il se peut que les pizzas s’envolent rapidement… alors ne tarde pas! \n\n\n\nAu menu:• Pepperoni & fromage• Toute garnie – poivrons\, champignons\, pepperoni\, fromage• Terrassoise – saucisses\, oignons\, poivrons\, tomates cerises\, mozzarella\, roquette• Végétarienne – oignons\, poivrons\, champignons\, épinards\, olives\, tomates cerises\, mozzarella\, roquette• Méditerranéenne – tomates cerises\, épinards\, noix de pin\, olives Kalamata\, roquette\, fromage de chèvre
URL:https://terrasse-cafe.org/event/vendredi-pizza-17/
END:VEVENT
BEGIN:VEVENT
DTSTART;TZID=America/Toronto:20250705T190000
DTEND;TZID=America/Toronto:20250705T213000
DTSTAMP:20260423T062110
CREATED:20250610T233914Z
LAST-MODIFIED:20250610T233920Z
UID:1682-1751742000-1751751000@terrasse-cafe.org
SUMMARY:Soirée spectacle Catch the Pin Up
DESCRIPTION:
URL:https://terrasse-cafe.org/event/soiree-spectacle-catch-the-pin-up/
END:VEVENT
BEGIN:VEVENT
DTSTART;TZID=America/Toronto:20250706T130000
DTEND;TZID=America/Toronto:20250706T150000
DTSTAMP:20260423T062110
CREATED:20250610T234329Z
LAST-MODIFIED:20250610T234333Z
UID:1684-1751806800-1751814000@terrasse-cafe.org
SUMMARY:Café tricot
DESCRIPTION:Le tricot\, c’est comme la vie\, c’est mieux à plusieurs!Le tricot\, tout comme le crochet\, connaît un véritable engouement ces dernières années. Au-delà du plaisir de créer de ses propres mains\, c’est une source de relaxation et de créativité pour tous les âges et pour toutes les situations!Que vous soyez débutant-e ou adepte des jeux d’aiguilles\, venez tricoter ou crocheter avec nos expertes du Cercle des fermières. Ce sera un moment de détente propice aux échanges et aux apprentissages! \n\n\n\nPour adultes\, ados et enfants (avec parents).Activité gratuite\, matériel inclus. \n\n\n\nAnimation par le Cercle des fermières de Pincourt (CFQ)Les Cercles des Fermières du Québec est la plus grande association féminine québécoise avec plus de 30 000 membres qui contribuent\, entre autres\, à la préservation et la transmission du patrimoine culturel et artisanal.
URL:https://terrasse-cafe.org/event/cafe-tricot/
END:VEVENT
BEGIN:VEVENT
DTSTART;TZID=America/Toronto:20250710T180000
DTEND;TZID=America/Toronto:20250710T200000
DTSTAMP:20260423T062110
CREATED:20250611T001549Z
LAST-MODIFIED:20250626T013102Z
UID:1700-1752170400-1752177600@terrasse-cafe.org
SUMMARY:Jeudi 5-7: Atelier de macramé
DESCRIPTION:Macramé: l’art de faire des nœuds… sans te casser la tête! \n\n\n\nApprenez à maîtriser les bases du macramé en faisant des nœuds plats\, des nœuds en spirale\, ou encore des nœuds carrés… et créez un objet décoratif que vos plantes adoreront! \n\n\n\nQue vous soyez petits ou grands\, vous confectionnerez une jardinière dans une ambiance conviviale\, tout en prenant l’air! \n\n\n\nDeux expertes passionnées des arts textiles partageront leur savoir-faire et leurs astuces pour créer la suspension idéale pour vos plantes. Et pourquoi pas ensuite pour votre «jardin intérieur»! \n\n\n\nCoût: 10$ (Matériel inclus) \n\n\n\n➡️ Places limitées: réservez votre place avant le 6 juillet! \n\n\n\nActivité pour adultes\, ados et enfants (avec parents) de 18h à 20h.  \n\n\n\n————————– \n\n\n\nAnimation par le Cercle des fermières de Pincourt (CFQ): \n\n\n\nLes Cercles des Fermières du Québec est la plus grande association féminine québécoise avec plus de 30 000 membres qui contribuent\, entre autres\, à la préservation et la transmission du patrimoine culturel et artisanal.
URL:https://terrasse-cafe.org/event/jeudi-5-7-atelier-de-macrame/
END:VEVENT
BEGIN:VEVENT
DTSTART;TZID=America/Toronto:20250711T170000
DTEND;TZID=America/Toronto:20250711T213000
DTSTAMP:20260423T062110
CREATED:20250611T001706Z
LAST-MODIFIED:20250611T001710Z
UID:1702-1752253200-1752269400@terrasse-cafe.org
SUMMARY:Vendredi pizza
DESCRIPTION:Les vendredis pizza\, c’est la tradition du Terrasse Café!Chaque vendredi soir\, viens déguster nos délicieuses pizzas artisanales cuites sur place\, en bonne compagnie et avec vue sur le lac. \n\n\n\n🕕 Premier arrivé\, premier servi — selon l’achalandage\, il se peut que les pizzas s’envolent rapidement… alors ne tarde pas! \n\n\n\nAu menu :• Pepperoni & fromage• Toute garnie – poivrons\, champignons\, pepperoni\, fromage• Terrassoise – saucisses\, oignons\, poivrons\, tomates cerises\, mozzarella\, roquette• Végétarienne – oignons\, poivrons\, champignons\, épinards\, olives\, tomates cerises\, mozzarella\, roquette• Méditerranéenne – tomates cerises\, épinards\, noix de pin\, olives Kalamata\, roquette\, fromage de chèvre
URL:https://terrasse-cafe.org/event/vendredi-pizza-18/
END:VEVENT
BEGIN:VEVENT
DTSTART;TZID=America/Toronto:20250711T190000
DTEND;TZID=America/Toronto:20250711T213000
DTSTAMP:20260423T062110
CREATED:20250628T152544Z
LAST-MODIFIED:20250628T152547Z
UID:1802-1752260400-1752269400@terrasse-cafe.org
SUMMARY:Soirée spectacle Les Bois Francs Band
DESCRIPTION:
URL:https://terrasse-cafe.org/event/soiree-spectacle-les-bois-francs-band-2/
END:VEVENT
BEGIN:VEVENT
DTSTART;TZID=America/Toronto:20250712T190000
DTEND;TZID=America/Toronto:20250712T213000
DTSTAMP:20260423T062110
CREATED:20250611T001746Z
LAST-MODIFIED:20250611T001749Z
UID:1704-1752346800-1752355800@terrasse-cafe.org
SUMMARY:Soirée spectacle Max Lajeunesse
DESCRIPTION:
URL:https://terrasse-cafe.org/event/soiree-spectacle-max-lajeunesse/
END:VEVENT
BEGIN:VEVENT
DTSTART;TZID=America/Toronto:20250713T103000
DTEND;TZID=America/Toronto:20250713T120000
DTSTAMP:20260423T062110
CREATED:20250611T001913Z
LAST-MODIFIED:20250611T001915Z
UID:1706-1752402600-1752408000@terrasse-cafe.org
SUMMARY:Atelier peinture sur verre
DESCRIPTION:Laissez votre créativité étinceler!  \n\n\n\n🎨 Que vous soyez novice ou artiste chevronné\, venez explorer la technique de peinture sur verre avec l’artiste Jade Cousineau! Vous transformerez un simple verre en petite œuvre d’art. \n\n\n\nPour offrir des cadeaux personnalisés ou pour embellir votre maison\, la peinture sur verre est une expérience artistique à découvrir. Un simple objet en verre pourra se métamorphoser sous vos doigts! \n\n\n\nPour adultes\, ados et enfants (avec parents). \n\n\n\nActivité gratuite\, mais réservation obligatoire. \n\n\n\nMatériel inclus. \n\n\n\n➡️ Places limitées: réservez vite votre place avant le 6 juillet!
URL:https://terrasse-cafe.org/event/atelier-peinture-sur-verre-2/
END:VEVENT
BEGIN:VEVENT
DTSTART;TZID=America/Toronto:20250718T170000
DTEND;TZID=America/Toronto:20250718T213000
DTSTAMP:20260423T062110
CREATED:20250611T002637Z
LAST-MODIFIED:20250611T002640Z
UID:1712-1752858000-1752874200@terrasse-cafe.org
SUMMARY:Vendredi pizza
DESCRIPTION:Les vendredis pizza\, c’est la tradition du Terrasse Café!Chaque vendredi soir\, viens déguster nos délicieuses pizzas artisanales cuites sur place\, en bonne compagnie et avec vue sur le lac. \n\n\n\n🕕 Premier arrivé\, premier servi — selon l’achalandage\, il se peut que les pizzas s’envolent rapidement… alors ne tarde pas! \n\n\n\nAu menu :• Pepperoni & fromage• Toute garnie – poivrons\, champignons\, pepperoni\, fromage• Terrassoise – saucisses\, oignons\, poivrons\, tomates cerises\, mozzarella\, roquette• Végétarienne – oignons\, poivrons\, champignons\, épinards\, olives\, tomates cerises\, mozzarella\, roquette• Méditerranéenne – tomates cerises\, épinards\, noix de pin\, olives Kalamata\, roquette\, fromage de chèvre
URL:https://terrasse-cafe.org/event/vendredi-pizza-19/
END:VEVENT
BEGIN:VEVENT
DTSTART;TZID=America/Toronto:20250719T170000
DTEND;TZID=America/Toronto:20250719T213000
DTSTAMP:20260423T062110
CREATED:20250611T002730Z
LAST-MODIFIED:20250611T002732Z
UID:1714-1752944400-1752960600@terrasse-cafe.org
SUMMARY:Soirée spectacle Sylvain Poirier
DESCRIPTION:
URL:https://terrasse-cafe.org/event/soiree-spectacle-sylvain-poirier/
END:VEVENT
BEGIN:VEVENT
DTSTART;TZID=America/Toronto:20250724T183000
DTEND;TZID=America/Toronto:20250724T203000
DTSTAMP:20260423T062110
CREATED:20250626T002748Z
LAST-MODIFIED:20250724T122005Z
UID:1720-1753381800-1753389000@terrasse-cafe.org
SUMMARY:Jeudi 5-7: Sip & Paint
DESCRIPTION:🎨 Apéro Peinture au Terrasse Café 🍷L’art de peindre… un verre à la main! \n\n\n\nEnvie d’un moment créatif et festif au bord de l’eau? Nos soirées Apéro Peinture sont l’occasion parfaite de laisser libre cours à votre imagination tout en sirotant votre boisson préférée. \n\n\n\nInstallez-vous pinceau dans une main\, verre dans l’autre\, et laissez-vous guider par deux artistes complices qui vous accompagneront pas à pas dans la réalisation d’une toile originale. Aucun stress\, que du plaisir — même si vos seules œuvres d’art jusqu’ici sont sur vos murs… ou votre frigo! \n\n\n\n🖌️ Pour les adultes et les ados – débutants comme curieux bienvenus!📅 Dates: 24 juillet\, 28 août et 18 septembre🕕 Heure: à 18 h 30📍 Terrasse Café – ambiance bord de l’eau garantie🎟️ Inscriptions ouvertes jusqu’au dimanche précédant chaque activité \n\n\n\nVotre billet inclut :✔️ Une toile✔️ Tout le matériel nécessaire (peinture acrylique\, pinceaux\, tablier)✔️ Une boisson de votre choix (alcoolisée ou non) \n\n\n\nVenez seul(e)\, en duo ou en gang — l’important\, c’est de créer… et de trinquer! 🍹🥂
URL:https://terrasse-cafe.org/event/jeudi-5-7-sip-paint/
END:VEVENT
BEGIN:VEVENT
DTSTART;TZID=America/Toronto:20250725T170000
DTEND;TZID=America/Toronto:20250725T213000
DTSTAMP:20260423T062110
CREATED:20250626T004346Z
LAST-MODIFIED:20250626T004349Z
UID:1733-1753462800-1753479000@terrasse-cafe.org
SUMMARY:Vendredi pizza
DESCRIPTION:Les vendredis pizza\, c’est la tradition du Terrasse Café!Chaque vendredi soir\, viens déguster nos délicieuses pizzas artisanales cuites sur place\, en bonne compagnie et avec vue sur le lac. \n\n\n\n🕕 Premier arrivé\, premier servi — selon l’achalandage\, il se peut que les pizzas s’envolent rapidement… alors ne tarde pas! \n\n\n\nAu menu :• Pepperoni & fromage• Toute garnie – poivrons\, champignons\, pepperoni\, fromage• Terrassoise – saucisses\, oignons\, poivrons\, tomates cerises\, mozzarella\, roquette• Végétarienne – oignons\, poivrons\, champignons\, épinards\, olives\, tomates cerises\, mozzarella\, roquette• Méditerranéenne – tomates cerises\, épinards\, noix de pin\, olives Kalamata\, roquette\, fromage de chèvre
URL:https://terrasse-cafe.org/event/vendredi-pizza-21/
END:VEVENT
BEGIN:VEVENT
DTSTART;TZID=America/Toronto:20250726T190000
DTEND;TZID=America/Toronto:20250726T213000
DTSTAMP:20260423T062110
CREATED:20250626T011007Z
LAST-MODIFIED:20250626T011011Z
UID:1755-1753556400-1753565400@terrasse-cafe.org
SUMMARY:Spectacle Rocket 56 Band
DESCRIPTION:
URL:https://terrasse-cafe.org/event/spectacle-rocket-56-band/
END:VEVENT
BEGIN:VEVENT
DTSTART;TZID=America/Toronto:20250727T090000
DTEND;TZID=America/Toronto:20250727T170000
DTSTAMP:20260423T062110
CREATED:20250626T011411Z
LAST-MODIFIED:20250713T123933Z
UID:1757-1753606800-1753635600@terrasse-cafe.org
SUMMARY:Journée familiale et brunch
DESCRIPTION:De 9h à 12h\, commencez la journée avec un délicieux brunch en plein air\, puis laissez les enfants (et les grands!) s’éclater. \n\n\n\n𝘼𝙪 𝙥𝙧𝙤𝙜𝙧𝙖𝙢𝙢𝙚 de 9h à 17h 🎈 Jeux gonflables pour sauter de joie🎲 Jeux de société pour des défis en famille🌳 Jeux grandeur nature pour des aventures incroyables \n\n\n\nVenez passer un moment inoubliable avec vos proches!👉 Accès gratuit aux jeux | Brunch payant \n\n\n\nÉvènement présenté par les Bourses TD Ami·es des parcs Park People / Ami·es des parcs | TD | TD Friends of the Environment Foundation \n\n\n\nhttps://www.facebook.com/ParkPeopleCA
URL:https://terrasse-cafe.org/event/journee-familiale-et-brunch-2/
END:VEVENT
END:VCALENDAR