BEGIN:VCALENDAR
VERSION:2.0
PRODID:-//Terrasse Café - Café communautaire - ECPv6.15.20//NONSGML v1.0//EN
CALSCALE:GREGORIAN
METHOD:PUBLISH
X-ORIGINAL-URL:https://terrasse-cafe.org
X-WR-CALDESC:Évènements pour Terrasse Café - Café communautaire
REFRESH-INTERVAL;VALUE=DURATION:PT1H
X-Robots-Tag:noindex
X-PUBLISHED-TTL:PT1H
BEGIN:VTIMEZONE
TZID:America/Toronto
BEGIN:DAYLIGHT
TZOFFSETFROM:-0500
TZOFFSETTO:-0400
TZNAME:EDT
DTSTART:20240310T070000
END:DAYLIGHT
BEGIN:STANDARD
TZOFFSETFROM:-0400
TZOFFSETTO:-0500
TZNAME:EST
DTSTART:20241103T060000
END:STANDARD
BEGIN:DAYLIGHT
TZOFFSETFROM:-0500
TZOFFSETTO:-0400
TZNAME:EDT
DTSTART:20250309T070000
END:DAYLIGHT
BEGIN:STANDARD
TZOFFSETFROM:-0400
TZOFFSETTO:-0500
TZNAME:EST
DTSTART:20251102T060000
END:STANDARD
BEGIN:DAYLIGHT
TZOFFSETFROM:-0500
TZOFFSETTO:-0400
TZNAME:EDT
DTSTART:20260308T070000
END:DAYLIGHT
BEGIN:STANDARD
TZOFFSETFROM:-0400
TZOFFSETTO:-0500
TZNAME:EST
DTSTART:20261101T060000
END:STANDARD
END:VTIMEZONE
BEGIN:VEVENT
DTSTART;TZID=America/Toronto:20250801T170000
DTEND;TZID=America/Toronto:20250801T213000
DTSTAMP:20260419T085339
CREATED:20250626T004447Z
LAST-MODIFIED:20250626T004450Z
UID:1735-1754067600-1754083800@terrasse-cafe.org
SUMMARY:Vendredi pizza
DESCRIPTION:Les vendredis pizza\, c’est la tradition du Terrasse Café!Chaque vendredi soir\, viens déguster nos délicieuses pizzas artisanales cuites sur place\, en bonne compagnie et avec vue sur le lac. \n\n\n\n🕕 Premier arrivé\, premier servi — selon l’achalandage\, il se peut que les pizzas s’envolent rapidement… alors ne tarde pas! \n\n\n\nAu menu :• Pepperoni & fromage• Toute garnie – poivrons\, champignons\, pepperoni\, fromage• Terrassoise – saucisses\, oignons\, poivrons\, tomates cerises\, mozzarella\, roquette• Végétarienne – oignons\, poivrons\, champignons\, épinards\, olives\, tomates cerises\, mozzarella\, roquette• Méditerranéenne – tomates cerises\, épinards\, noix de pin\, olives Kalamata\, roquette\, fromage de chèvre
URL:https://terrasse-cafe.org/event/vendredi-pizza-22/
END:VEVENT
BEGIN:VEVENT
DTSTART;TZID=America/Toronto:20250802T190000
DTEND;TZID=America/Toronto:20250802T213000
DTSTAMP:20260419T085339
CREATED:20250626T011525Z
LAST-MODIFIED:20250626T011528Z
UID:1759-1754161200-1754170200@terrasse-cafe.org
SUMMARY:Spectacle 4 Pieces of Silver
DESCRIPTION:
URL:https://terrasse-cafe.org/event/spectacle-4-pieces-of-silver/
END:VEVENT
BEGIN:VEVENT
DTSTART;TZID=America/Toronto:20250807T190000
DTEND;TZID=America/Toronto:20250807T210000
DTSTAMP:20260419T085339
CREATED:20250626T012537Z
LAST-MODIFIED:20250626T012559Z
UID:1763-1754593200-1754600400@terrasse-cafe.org
SUMMARY:Jeudi 5-7: Bingo
DESCRIPTION:Si vous aimez les surprises\, les éclats de rire et une saine rivalité\, notre bingo vous attend!📢 Le jeudi 7 août dès 19h\, c’est votre chance de passer une bonne soirée!🍹🥘 Bar\, bonne bouffe et ambiance estivale au menu!Amenez votre bonne humeur — et qui sait\, vous crierez peut-être BINGO avant tout le monde!Accès gratuit au site.🔢 Cartes de bingo: 6$ / unité\, 20$ pour 4.
URL:https://terrasse-cafe.org/event/jeudi-5-7-bingo/
END:VEVENT
BEGIN:VEVENT
DTSTART;TZID=America/Toronto:20250808T170000
DTEND;TZID=America/Toronto:20250808T213000
DTSTAMP:20260419T085339
CREATED:20250626T004542Z
LAST-MODIFIED:20250626T004546Z
UID:1737-1754672400-1754688600@terrasse-cafe.org
SUMMARY:Vendredi pizza
DESCRIPTION:Les vendredis pizza\, c’est la tradition du Terrasse Café!Chaque vendredi soir\, viens déguster nos délicieuses pizzas artisanales cuites sur place\, en bonne compagnie et avec vue sur le lac. \n\n\n\n🕕 Premier arrivé\, premier servi — selon l’achalandage\, il se peut que les pizzas s’envolent rapidement… alors ne tarde pas! \n\n\n\nAu menu :• Pepperoni & fromage• Toute garnie – poivrons\, champignons\, pepperoni\, fromage• Terrassoise – saucisses\, oignons\, poivrons\, tomates cerises\, mozzarella\, roquette• Végétarienne – oignons\, poivrons\, champignons\, épinards\, olives\, tomates cerises\, mozzarella\, roquette• Méditerranéenne – tomates cerises\, épinards\, noix de pin\, olives Kalamata\, roquette\, fromage de chèvre
URL:https://terrasse-cafe.org/event/vendredi-pizza-23/
END:VEVENT
BEGIN:VEVENT
DTSTART;TZID=America/Toronto:20250809T190000
DTEND;TZID=America/Toronto:20250809T210000
DTSTAMP:20260419T085339
CREATED:20250626T012224Z
LAST-MODIFIED:20250626T012227Z
UID:1761-1754766000-1754773200@terrasse-cafe.org
SUMMARY:Spectacle Alexandre Légaré
DESCRIPTION:
URL:https://terrasse-cafe.org/event/spectacle-alexandre-legare/
END:VEVENT
BEGIN:VEVENT
DTSTART;TZID=America/Toronto:20250815T170000
DTEND;TZID=America/Toronto:20250815T213000
DTSTAMP:20260419T085339
CREATED:20250626T004656Z
LAST-MODIFIED:20250626T004659Z
UID:1739-1755277200-1755293400@terrasse-cafe.org
SUMMARY:Vendredi pizza
DESCRIPTION:Les vendredis pizza\, c’est la tradition du Terrasse Café!Chaque vendredi soir\, viens déguster nos délicieuses pizzas artisanales cuites sur place\, en bonne compagnie et avec vue sur le lac. \n\n\n\n🕕 Premier arrivé\, premier servi — selon l’achalandage\, il se peut que les pizzas s’envolent rapidement… alors ne tarde pas! \n\n\n\nAu menu :• Pepperoni & fromage• Toute garnie – poivrons\, champignons\, pepperoni\, fromage• Terrassoise – saucisses\, oignons\, poivrons\, tomates cerises\, mozzarella\, roquette• Végétarienne – oignons\, poivrons\, champignons\, épinards\, olives\, tomates cerises\, mozzarella\, roquette• Méditerranéenne – tomates cerises\, épinards\, noix de pin\, olives Kalamata\, roquette\, fromage de chèvre
URL:https://terrasse-cafe.org/event/vendredi-pizza-24/
END:VEVENT
BEGIN:VEVENT
DTSTART;TZID=America/Toronto:20250816T130000
DTEND;TZID=America/Toronto:20250816T150000
DTSTAMP:20260419T085339
CREATED:20250626T013849Z
LAST-MODIFIED:20250626T014353Z
UID:1766-1755349200-1755356400@terrasse-cafe.org
SUMMARY:Café tricot
DESCRIPTION:Viens faire des mailles… et des merveilles ! Le tricot\, tout comme le crochet\, connaît un véritable engouement ces dernières années. Au-delà du plaisir de créer de ses propres mains\, c’est une source de relaxation et de créativité pour tous les âges et pour toutes les situations! Que vous soyez débutant-e ou adepte des jeux d’aiguilles\, venez tricoter ou crocheter avec nos expertes du Cercle des fermières. Ce sera un moment de détente propice aux échanges et aux apprentissages!  \n\n\n\nPour adultes\, ados et enfants (avec parents). Activité gratuite\, matériel inclus.  \n\n\n\nAnimation par le Cercle des fermières de Pincourt (CFQ) Les Cercles des Fermières du Québec est la plus grande association féminine québécoise avec plus de 30 000 membres qui contribuent\, entre autres\, à la préservation et la transmission du patrimoine culturel et artisanal.
URL:https://terrasse-cafe.org/event/cafe-tricot-2/
END:VEVENT
BEGIN:VEVENT
DTSTART;TZID=America/Toronto:20250816T190000
DTEND;TZID=America/Toronto:20250816T210000
DTSTAMP:20260419T085339
CREATED:20250626T014504Z
LAST-MODIFIED:20250626T014507Z
UID:1770-1755370800-1755378000@terrasse-cafe.org
SUMMARY:Soirée Années 80 avec Jean-Michel
DESCRIPTION:
URL:https://terrasse-cafe.org/event/soiree-annees-80-avec-jean-michel/
END:VEVENT
BEGIN:VEVENT
DTSTART;TZID=America/Toronto:20250822T170000
DTEND;TZID=America/Toronto:20250822T213000
DTSTAMP:20260419T085339
CREATED:20250626T004820Z
LAST-MODIFIED:20250626T004827Z
UID:1741-1755882000-1755898200@terrasse-cafe.org
SUMMARY:Vendredi pizza
DESCRIPTION:Les vendredis pizza\, c’est la tradition du Terrasse Café!Chaque vendredi soir\, viens déguster nos délicieuses pizzas artisanales cuites sur place\, en bonne compagnie et avec vue sur le lac. \n\n\n\n🕕 Premier arrivé\, premier servi — selon l’achalandage\, il se peut que les pizzas s’envolent rapidement… alors ne tarde pas! \n\n\n\nAu menu :• Pepperoni & fromage• Toute garnie – poivrons\, champignons\, pepperoni\, fromage• Terrassoise – saucisses\, oignons\, poivrons\, tomates cerises\, mozzarella\, roquette• Végétarienne – oignons\, poivrons\, champignons\, épinards\, olives\, tomates cerises\, mozzarella\, roquette• Méditerranéenne – tomates cerises\, épinards\, noix de pin\, olives Kalamata\, roquette\, fromage de chèvre
URL:https://terrasse-cafe.org/event/vendredi-pizza-25/
END:VEVENT
BEGIN:VEVENT
DTSTART;TZID=America/Toronto:20250823T170000
DTEND;TZID=America/Toronto:20250823T190000
DTSTAMP:20260419T085339
CREATED:20250626T015056Z
LAST-MODIFIED:20250626T015059Z
UID:1772-1755968400-1755975600@terrasse-cafe.org
SUMMARY:Balade œnologique : À la découverte des vins d'Europe de l'Est
DESCRIPTION:Découvrez le berceau du vin: L’Europe de l’Est!Atelier de dégustation avec la sommelière Amrita Darji \n\n\n\n🍇 Envie de sortir des sentiers battus dans l’univers du vin? La sommelière Amrita Darji vous invite à explorer les trésors viticoles d’Europe de l’Est\, le berceau de la viticulture et de l’œnologie! \n\n\n\nL’Europe de l’Est regorge de trésors viticoles trop peu explorés. De la Moldavie à la Roumanie\, en passant par la Slovénie\, la Croatie ou l’Autriche\, ces pays offrent des vins surprenants d’une grande finesse qui sont le fruit d’un savoir-faire millénaire. \n\n\n\nPassionnée par les accords inusités et les découvertes culturelles\, Amrita Darji vous fera découvrir des vins étonnants\, souvent issus de cépages autochtones\, et produits selon des méthodes traditionnelles ou novatrices. \n\n\n\n🍷 Une activité pour les curieux et les épicuriens\, un 5 à 7 savoureux et convivial à ne pas manquer! \n\n\n\nCoût: 20$ (Attention : Places limitées) \n\n\n\nInclus dans le billet:  \n\n\n\n\nEnseignement des techniques de dégustation\n\n\n\nDécouverte de cépages indigènes\, rouge et blanc\, et de bulles surprenantes 🥂 (5)\n\n\n\nBouchées apéritives\n\n\n\nEt plaisir garanti!
URL:https://terrasse-cafe.org/event/balade-oenologique-a-la-decouverte-des-vins-deurope-de-lest/
END:VEVENT
BEGIN:VEVENT
DTSTART;TZID=America/Toronto:20250823T190000
DTEND;TZID=America/Toronto:20250823T210000
DTSTAMP:20260419T085339
CREATED:20250626T015143Z
LAST-MODIFIED:20250626T015147Z
UID:1774-1755975600-1755982800@terrasse-cafe.org
SUMMARY:Spectacle Radio Tango Band
DESCRIPTION:
URL:https://terrasse-cafe.org/event/spectacle-radio-tango-band/
END:VEVENT
BEGIN:VEVENT
DTSTART;TZID=America/Toronto:20250824T103000
DTEND;TZID=America/Toronto:20250824T113000
DTSTAMP:20260419T085339
CREATED:20250626T015330Z
LAST-MODIFIED:20250626T015333Z
UID:1776-1756031400-1756035000@terrasse-cafe.org
SUMMARY:Atelier peinture sur verre
DESCRIPTION:Laissez votre créativité étinceler! 🎨 Que vous soyez novice ou artiste chevronné\, venez explorer la technique de peinture sur verre avec l’artiste Jade Cousineau! Vous transformerez un simple verre en petite œuvre d’art. Pour offrir des cadeaux personnalisés ou pour embellir votre maison\, la peinture sur verre est une expérience artistique à découvrir. Un simple objet en verre pourra se métamorphoser sous vos doigts! Pour adultes\, ados et enfants (avec parents). Inscription avant le 17 aout. Activité gratuite\, matériel inclus. 🥂 Vous repartirez avec une création de votre cru!  \n\n\n\n➡️ Places limitées: réservez vite votre place!
URL:https://terrasse-cafe.org/event/atelier-peinture-sur-verre-3/
END:VEVENT
BEGIN:VEVENT
DTSTART;TZID=America/Toronto:20250828T183000
DTEND;TZID=America/Toronto:20250828T203000
DTSTAMP:20260419T085339
CREATED:20250626T003626Z
LAST-MODIFIED:20250827T012902Z
UID:1724-1756405800-1756413000@terrasse-cafe.org
SUMMARY:Jeudi 5-7: Sip & Paint - REPORTÉ AU 6 SEPT 13H
DESCRIPTION:🎨 Apéro Peinture au Terrasse Café 🍷L’art de peindre… un verre à la main! \n\n\n\nEnvie d’un moment créatif et festif au bord de l’eau? Nos soirées Apéro Peinture sont l’occasion parfaite de laisser libre cours à votre imagination tout en sirotant votre boisson préférée. \n\n\n\nInstallez-vous pinceau dans une main\, verre dans l’autre\, et laissez-vous guider par deux artistes complices qui vous accompagneront pas à pas dans la réalisation d’une toile originale. Aucun stress\, que du plaisir — même si vos seules œuvres d’art jusqu’ici sont sur vos murs… ou votre frigo! \n\n\n\n🖌️ Pour les adultes et les ados – débutants comme curieux bienvenus!📅 Dates : 24 juillet\, 28 août et 18 septembre🕕 Heure : Les jeudis à 18 h30📍 Terrasse Café – ambiance bord de l’eau garantie🎟️ Inscriptions ouvertes jusqu’au dimanche précédant chaque activité \n\n\n\nVotre billet inclut :✔️ Une toile✔️ Tout le matériel nécessaire (peinture acrylique\, pinceaux\, tablier)✔️ Une boisson de votre choix (alcoolisée ou non) \n\n\n\nVenez seul(e)\, en duo ou en gang — l’important\, c’est de créer… et de trinquer! 🍹🥂 \n\n\n\n\nCliquez ici pour vous inscrire
URL:https://terrasse-cafe.org/event/jeudi-5-7-sip-paint-2/
END:VEVENT
BEGIN:VEVENT
DTSTART;TZID=America/Toronto:20250829T170000
DTEND;TZID=America/Toronto:20250829T213000
DTSTAMP:20260419T085339
CREATED:20250626T004921Z
LAST-MODIFIED:20250626T004927Z
UID:1743-1756486800-1756503000@terrasse-cafe.org
SUMMARY:Vendredi pizza
DESCRIPTION:Les vendredis pizza\, c’est la tradition du Terrasse Café!Chaque vendredi soir\, viens déguster nos délicieuses pizzas artisanales cuites sur place\, en bonne compagnie et avec vue sur le lac. \n\n\n\n🕕 Premier arrivé\, premier servi — selon l’achalandage\, il se peut que les pizzas s’envolent rapidement… alors ne tarde pas! \n\n\n\nAu menu :• Pepperoni & fromage• Toute garnie – poivrons\, champignons\, pepperoni\, fromage• Terrassoise – saucisses\, oignons\, poivrons\, tomates cerises\, mozzarella\, roquette• Végétarienne – oignons\, poivrons\, champignons\, épinards\, olives\, tomates cerises\, mozzarella\, roquette• Méditerranéenne – tomates cerises\, épinards\, noix de pin\, olives Kalamata\, roquette\, fromage de chèvre
URL:https://terrasse-cafe.org/event/vendredi-pizza-26/
END:VEVENT
BEGIN:VEVENT
DTSTART;TZID=America/Toronto:20250830T130000
DTEND;TZID=America/Toronto:20250830T150000
DTSTAMP:20260419T085339
CREATED:20250626T015543Z
LAST-MODIFIED:20250626T015547Z
UID:1778-1756558800-1756566000@terrasse-cafe.org
SUMMARY:Atelier aquarelle au feutre
DESCRIPTION:Explorez l’aquarelle au feutre!🎨 Découvrez une technique innovante qui combine la précision du feutre à la magie de l’aquarelle. Cet atelier vous initiera à l’utilisation des feutres aquarellables pour créer des effets vibrants et des dégradés subtils. Grâce aux conseils du personnalisés du Cercle des fermières de Pincourt\, vous apprendrez rapidement à maîtriser la technique pour réaliser des œuvres uniques.💧 Que vous soyez débutant ou artiste confirmé\, laissez-vous surprendre par la polyvalence de ce médium. Pas besoin d’être un·e pro du pinceau: ici\, on explore\, on teste et on s’amuse!🖌️ Cet atelier est une invitation à la créativité et à l’expérimentation\, le tout dans une ambiance conviviale et inspirante. \n\n\n\nPour adultes\, ados et enfants (avec parents).Inscription avant le 24 aoûtActivité gratuite\, matériel inclus. \n\n\n\nAnimation par le Cercle des fermières de Pincourt (CFQ) :Les Cercles des Fermières du Québec est la plus grande association féminine québécoise avec plus de 30 000 membres qui contribuent\, entre autres\, à la préservation et la transmission du patrimoine culturel et artisanal
URL:https://terrasse-cafe.org/event/atelier-aquarelle-au-feutre/
END:VEVENT
BEGIN:VEVENT
DTSTART;TZID=America/Toronto:20250830T190000
DTEND;TZID=America/Toronto:20250830T210000
DTSTAMP:20260419T085339
CREATED:20250827T013132Z
LAST-MODIFIED:20250827T013138Z
UID:1833-1756580400-1756587600@terrasse-cafe.org
SUMMARY:Spectacle Valérie Clio Duo
DESCRIPTION:
URL:https://terrasse-cafe.org/event/spectacle-valerie-clio-duo/
END:VEVENT
BEGIN:VEVENT
DTSTART;TZID=America/Toronto:20250831T090000
DTEND;TZID=America/Toronto:20250831T170000
DTSTAMP:20260419T085339
CREATED:20250626T015755Z
LAST-MODIFIED:20250713T124253Z
UID:1780-1756630800-1756659600@terrasse-cafe.org
SUMMARY:Journée familiale et brunch
DESCRIPTION:De 9h à 12h\, commencez la journée avec un délicieux brunch en plein air\, puis laissez les enfants (et les grands!) s’éclater. \n\n\n\n𝘼𝙪 𝙥𝙧𝙤𝙜𝙧𝙖𝙢𝙢𝙚 de 9h à 17h🎈 Jeux gonflables pour sauter de joie🎲 Jeux de société pour des défis en famille🌳 Jeux grandeur nature pour des aventures incroyables \n\n\n\nVenez passer un moment inoubliable avec vos proches!👉 Accès gratuit aux jeux | Brunch payant \n\n\n\nÉvènement présenté par les Bourses TD Ami·es des parcs Park People / Ami·es des parcs | TD | TD Friends of the Environment Foundation \n\n\n\nhttps://www.facebook.com/ParkPeopleCA
URL:https://terrasse-cafe.org/event/journee-familiale-et-brunch-3/
END:VEVENT
END:VCALENDAR